BEGIN:VCALENDAR
VERSION:2.0
PRODID:-//KILI PEOPLE - ECPv6.13.2.1//NONSGML v1.0//EN
CALSCALE:GREGORIAN
METHOD:PUBLISH
X-ORIGINAL-URL:https://kilipeople.org
X-WR-CALDESC:Events for KILI PEOPLE
REFRESH-INTERVAL;VALUE=DURATION:PT1H
X-Robots-Tag:noindex
X-PUBLISHED-TTL:PT1H
BEGIN:VTIMEZONE
TZID:UTC
BEGIN:STANDARD
TZOFFSETFROM:+0000
TZOFFSETTO:+0000
TZNAME:UTC
DTSTART:20110101T000000
END:STANDARD
END:VTIMEZONE
BEGIN:VEVENT
DTSTART;TZID=UTC:20110528T180000
DTEND;TZID=UTC:20110528T200000
DTSTAMP:20260423T221536
CREATED:20110528T174245Z
LAST-MODIFIED:20181214T154928Z
UID:979-1306605600-1306612800@kilipeople.org
SUMMARY:அங்குரார்ப்பணம் - KILI PEOPLE
DESCRIPTION:அங்குரார்ப்பணம் – KILI PEOPLE -28/05/2011\nKILI  PEOPLE நிறுவனம் 28/05/2011 அன்று லண்டனில் உருவாக்கப்பட்டுள்ளது. புலம்பெயர் வாழ் கிளிநொச்சி மாவட்ட மக்களின் ஒருமனதான விருப்புடன் இவ் அமைப்பு உருவாக்கப்பட்டுள்ளது.\n\nKILI PEOPLE \nகிளிநொச்சி மாவட்ட மக்கள் அமைப்பு – ஐ .இ \nKILINOCHCHI DISTRICT PEOPLE ORGANISATION – UK \n\nகிளிநொச்சி மாவட்ட மக்களின் வாழ்வை மேம்படுத்தும் நோக்கத்துடனான தன்னார்வ தொண்டு நிறுவனமாக KILI PEOPLE இயங்கும்.\n\nபிரித்தானியாவில் தலைமைச்செயலகத்தையும் ஏனைய நாடுகளில் துணை அலுவலகங்களையும் அமைப்பதாகவும்.  அந்த நாடுகளில் பொறுப்பாக ஒவ்வொரு இணைப்பாளர்கள் செயலாற்றுவார்கள் எனவும் முடிவு செய்யப்பட்டுள்ளது.
URL:https://kilipeople.org/event/%e0%ae%85%e0%ae%99%e0%af%8d%e0%ae%95%e0%af%81%e0%ae%b0%e0%ae%be%e0%ae%b0%e0%af%8d%e0%ae%aa%e0%af%8d%e0%ae%aa%e0%ae%a3%e0%ae%ae%e0%af%8d-kili-people/
CATEGORIES:Passed Events
ATTACH;FMTTYPE=image/jpeg:https://kilipeople.org/wp-content/uploads/2011/05/forma.jpg
END:VEVENT
END:VCALENDAR