BEGIN:VCALENDAR
VERSION:2.0
PRODID:-//KILI PEOPLE - ECPv6.13.2.1//NONSGML v1.0//EN
CALSCALE:GREGORIAN
METHOD:PUBLISH
X-WR-CALNAME:KILI PEOPLE
X-ORIGINAL-URL:https://kilipeople.org
X-WR-CALDESC:Events for KILI PEOPLE
REFRESH-INTERVAL;VALUE=DURATION:PT1H
X-Robots-Tag:noindex
X-PUBLISHED-TTL:PT1H
BEGIN:VTIMEZONE
TZID:Europe/London
BEGIN:DAYLIGHT
TZOFFSETFROM:+0000
TZOFFSETTO:+0100
TZNAME:BST
DTSTART:20200329T010000
END:DAYLIGHT
BEGIN:STANDARD
TZOFFSETFROM:+0100
TZOFFSETTO:+0000
TZNAME:GMT
DTSTART:20201025T010000
END:STANDARD
BEGIN:DAYLIGHT
TZOFFSETFROM:+0000
TZOFFSETTO:+0100
TZNAME:BST
DTSTART:20210328T010000
END:DAYLIGHT
BEGIN:STANDARD
TZOFFSETFROM:+0100
TZOFFSETTO:+0000
TZNAME:GMT
DTSTART:20211031T010000
END:STANDARD
END:VTIMEZONE
BEGIN:VTIMEZONE
TZID:UTC
BEGIN:STANDARD
TZOFFSETFROM:+0000
TZOFFSETTO:+0000
TZNAME:UTC
DTSTART:20200101T000000
END:STANDARD
END:VTIMEZONE
BEGIN:VEVENT
DTSTART;TZID=Europe/London:20210830T140000
DTEND;TZID=Europe/London:20210830T163000
DTSTAMP:20260423T222756
CREATED:20210901T000613Z
LAST-MODIFIED:20210901T000705Z
UID:3921-1630332000-1630341000@kilipeople.org
SUMMARY:COVID19 - அவசர கலந்துரையாடல்
DESCRIPTION:
URL:https://kilipeople.org/event/covid19-%e0%ae%85%e0%ae%b5%e0%ae%9a%e0%ae%b0-%e0%ae%95%e0%ae%b2%e0%ae%a8%e0%af%8d%e0%ae%a4%e0%af%81%e0%ae%b0%e0%af%88%e0%ae%af%e0%ae%be%e0%ae%9f%e0%ae%b2%e0%af%8d/
CATEGORIES:Upcoming Events
ATTACH;FMTTYPE=image/png:https://kilipeople.org/wp-content/uploads/2021/09/Covid-Meeting-30-08-21.png
END:VEVENT
BEGIN:VEVENT
DTSTART;TZID=Europe/London:20210501T190000
DTEND;TZID=Europe/London:20210501T220000
DTSTAMP:20260423T222756
CREATED:20210424T110039Z
LAST-MODIFIED:20210424T110224Z
UID:3906-1619895600-1619906400@kilipeople.org
SUMMARY:சங்கீத மேகம் 2021
DESCRIPTION:  \nவீட்டுத்தோட்ட பெரும் திட்டத்துக்காக “சங்கீத மேகம்”\nசிறு துளி பெருவெள்ளம்\nபுலம் பெயர் மக்களாகிய நாம் எங்கள் மக்கள் இன்னுற்ற போது தூக்கி விட்டோம்… அரவணைத்தோம் எங்களால் இயன்றதை செய்தோம்…. ஆனால் இது எவ்வளவு காலத்துக்கு? \nஎங்கள் மக்களுக்கு தன்னிறைவான ஒரு பொருளாதாராத்தை கட்டியமைப்பதில் இன்றும் பின்தங்கியே இருக்கின்றோம்…. பசித்தவனுக்கு மீனை உண்ணக் கொடுப்பதை விட மீன் பிடிக்கக் கற்றுக்கொடுப்பதே சிறந்தது என்ற பழமொழிக்கேற்ப அங்கு வாழும் எம்மக்களுக்கான உதவியை செறிவாக்கவும் மக்களுக்கான தன்னிறைவான பொருளாதாதரத்தை அவர்களக் கொண்டே கட்டியமைப்பதற்குமாக பிரித்தானியாவில் உள்ள பதின்மூன்று தொண்டு நிறுவனங்கள்\nமுதலாம் கட்டத்தில் 97 குடும்பங்கள் பயயடைந்தபின்\nஇரண்டாம் கட்டத்தில் 198 குடும்பங்களும் தெரிவு செய்யப்பட்டு வீட்டுத்தோட்டத்திட்டம் வெற்றிகரமாக நிறைவேற்றப்பட்டுக்கொண்டு இருக்கின்றது. \nஅடுத்த கட்டமாக இத்திட்டத்தை விஸ்தரித்து வடக்கு\, கிழக்கு மற்றும் மலையகம் தழுவலாக ஓராயிரம் குடும்பங்களுக்கு உதவும் இந்த பசுமைப்புரட்சி திட்டத்துக்கு உங்கள் அனைவரினதும் பங்களிப்பை நாடி நிற்கிறோம்.\nஒன்றுபட்டால் உண்டு வாழ்வு அடம்பன் கொடியும் திரண்டால் மிடுக்குத்தானே….. ஊர் கூடித்தேரிழுத்தால் வந்து சேரும் தானே….. வாருங்கள் நாம் சேர்ந்து வடமிழுப்போம் \nhttps://uk.virginmoneygiving.com/fundraiser-display/showROFundraiserPage?pageId=1268285 \nபங்கு பெறும் 13 சமூகசேவை நிறுவனங்கள்:\nLotus Caring Hands\nRatnam Foundation\nVirutcham Trust\nNew Life Foundation\nKilli People\nParanthan OSIA\nForum To Assist Children’s Education\nSave The Life International\nV4U UK Ltd\nNEMBU\nMannar Welfare Association UK\nOur Society United Kingdom\nPath To The Future
URL:https://kilipeople.org/event/%e0%ae%9a%e0%ae%99%e0%af%8d%e0%ae%95%e0%af%80%e0%ae%a4-%e0%ae%ae%e0%af%87%e0%ae%95%e0%ae%ae%e0%af%8d-2021/
CATEGORIES:Upcoming Events
ATTACH;FMTTYPE=image/jpeg:https://kilipeople.org/wp-content/uploads/2021/04/FINAL-POSTER-final-landscape.jpg
END:VEVENT
BEGIN:VEVENT
DTSTART;TZID=Europe/London:20210425T180000
DTEND;TZID=Europe/London:20210425T200000
DTSTAMP:20260423T222756
CREATED:20210424T110459Z
LAST-MODIFIED:20210424T110459Z
UID:3912-1619373600-1619380800@kilipeople.org
SUMMARY:தமிழ்துறைக்கான கலந்துரையாடல்
DESCRIPTION:இலண்டன் பல்கலைக்கழக தமிழ்துறைக்கான முயற்சியின் தொடர் நிகழ்வாக ஒரு கலந்துரையாடல் எதிர்வரும் ஞாயிற்றுக்கிழமை மாலை 6 மணிக்கு நடைபெற உள்ளது.
URL:https://kilipeople.org/event/%e0%ae%a4%e0%ae%ae%e0%ae%bf%e0%ae%b4%e0%af%8d%e0%ae%a4%e0%af%81%e0%ae%b1%e0%af%88%e0%ae%95%e0%af%8d%e0%ae%95%e0%ae%be%e0%ae%a9-%e0%ae%95%e0%ae%b2%e0%ae%a8%e0%af%8d%e0%ae%a4%e0%af%81%e0%ae%b0%e0%af%88/
LOCATION:ZOOM
CATEGORIES:Upcoming Events
ATTACH;FMTTYPE=image/jpeg:https://kilipeople.org/wp-content/uploads/2021/04/fe00bec9-77df-4bee-a06a-d102e16bbdbd.jpg
END:VEVENT
BEGIN:VEVENT
DTSTART;TZID=Europe/London:20210228T180000
DTEND;TZID=Europe/London:20210228T200000
DTSTAMP:20260423T222756
CREATED:20210221T143002Z
LAST-MODIFIED:20210228T113309Z
UID:3888-1614535200-1614542400@kilipeople.org
SUMMARY:CHARITY MEET FOR TAMIL STUDIES UK
DESCRIPTION:*TAMIL ORGANISATIONS MEET FOR TAMIL STUDIES UK* \n28/02/2021 @ 6PM UK \nJoin Zoom Meeting \nhttps://us02web.zoom.us/j/6948884760 \n Meeting ID: 694 888 4760 \nஇலண்டன் பல்கலைக்கழகம்\, SOAS இல் தமிழ்த்துறை அமைவதற்கு வலுசேர்க்கும் முயற்சியாக கிளி மக்கள் அமைப்பின் ஏற்பாட்டில் தொண்டு நிறுவனங்களும் ஐக்கிய இராச்சிய தமிழ்த்துறையும் சந்திக்கும் நிகழ்வு. \n*கலந்துகொள்ளும் அமைப்புக்கள்:* \n\n KILI PEOPLE\n K/Vaddakkachi CC OSA-UK\n Tamil Information Center(TIC)\n Center for Community Development (CCD)\n K/Paranthan HMV OSIA\n Path To The Future\n Ealing Amman Temple\n DATA-Tamil Para Sports\n J/Hindu Ladies College OG WWA-UK\n Children Hunger Relief Fund-UK\n Lakshmi Hands-UK\n Rugby Tamil Welfare Centre-UK\n New Life Foundation-UK\n K/Ramanathapuram MV OSA-UK\n Noolaham – UK\n Kilinochchi Education Development Trust-\n V4U-UK\n London Tamil Center – Tamil School\n Skyrose Cricket Club – UK \n Tamil Movement International\n DELFT Society – UK\n DELFT Island Sports Club – UK \n Tamil School – Birmingham – MFALA\n K/Pallai Central College OSIA\n J/Kokuvil Hindu College OSA – UK\n VTM -UK Charity\n Liverpool Tamil Kalvikoodam\n Aram Foundation-UK\n Bt/Methodist Central College  OBA – UK\n Thurkkai Amman Temple -Luzern\, Swiss\n Kingston university -Tamil Students Alumni \n Nottingham Tamil School                                      \n Gloucester Pillaiyar Hindu Temple \n K/Murasumoddai Muruganantha CC OSA – UK\n Vavuniya Friends Circle\n K/Uruthirapuram MV OSA – UK\n Save the Life International – UK\n Manitha Neyam – UK\n K/Hindu College OSA – UK\n Waltham Forest Tamil Sangam – Tamil School-UK\n Hendon Tamil School – UK\n Kuviyam – Networking Platform\n K/Central College OSA – UK\n International Hindu Youth Forum-UK\n Thirandaal Midukku – UK\n Serendip – UK\n Thenmaradchi Development Association – UK\n J/Chavakacheri Hindu College OSTA – UK\n Southend Tamil Association – UK\n Jeyanjali International UK\n British Tamil Chamber of Commerce-UK\n Tamil Institute for Leadership Excellence-UK\n Tamil Welfare Association Nottinghamshire-UK\n Ray of Hope People\n Tamil Arts & Culture School-Wales\, UK\n Tamil Mantram Cardiff-UK\n British Tamil Cricket League-UK\n Lotus Caring Hands – UK\n Bristol Tamil Sangam – UK\n Child First UK\n Uchi Murugan Kovil High Wycombe – UK\n Wycombe Tamil Community Association – UK \n Tamil Welfare Organisation\, Stoke on Trent – UK\n Thamil Kalvi Kalaiyakam – UK\n Virutcham Trust – UK\n Forum to Assist Children’s Education – UK\n J/Kodikaamam Thirunavukarasu Central College OSA – UK\nPungudutivu Welfare Association – UK\n Uttankarai Pillaiyar Onriyam – UK\n HighGate Hill  Murugan Kovil\, Archway – UK\n Middlesex Titans Sports & Social Club – UK\n West United Cricket Club\, Bristol – UK\n J/Hindu College OBA – UK\n J/Central College OBA – UK\nBatticaloa Underprivilege Development Society – UK\n Mallakam Makkal Manram – UK\n Wolverhampton Tamil Kalvikudam\n J/St John’s College OBA – UK\n J/Chundikuli Girls’ College OGA – UK\n Ramanathapuram Vaddakachchi Ontriam\n Forum for Education and Economic Development – International\n Abayam Foundation for Health and Education – UK\n West Midlands Thamilar Peravai – UK\n K/ Mulankavil MV OSA – UK\n Vaakai Muththamil Muttam\, Kent – UK \n Tamil Schools Sports Association – UK\n M/Vidyananda College OSA – UK\n Sangath Thamil Sangam\, Thamil Nadu – India\n Wanni Welfare Society – UK\n K/Ramanathapuram WGTMS OSA – UK\n V/Vavuniya Tamil Madya Maha Vidyalayam OSA – UK\n Harrow Tamil Santhi\n J/Velanai Central College OSA – UK\n Harrow Tamil School Association\n Shanmuga Tamilalayam Tamil School – UK\n Tamil Academy of Language & Arts – UK\n Sutton Tamil School – UK\n Harrow Tamil Association & Elders Centre – UK\n K/Murugananda Central College OSA – SL\n J/Skandavaroday College OSA – UK\n Jaffna People Association\n T/Trico Sri Koneswara Hindu College OSA – UK\n V/Rambaikulam Girls MV OSA – UK\n\nTo join this session\, please contact on info@kilipeople.org \nRegards \nKILI PEOPLE  \nwww.kilipeople.org
URL:https://kilipeople.org/event/charity-meet-for-tamil-studies-uk/
CATEGORIES:Upcoming Events
ATTACH;FMTTYPE=image/png:https://kilipeople.org/wp-content/uploads/2021/02/KILI-TAMIL-STU-BANNER-small.png
END:VEVENT
BEGIN:VEVENT
DTSTART;TZID=Europe/London:20201105T000000
DTEND;TZID=Europe/London:20201205T235900
DTSTAMP:20260423T222756
CREATED:20201105T143108Z
LAST-MODIFIED:20201230T153508Z
UID:3731-1604534400-1607212740@kilipeople.org
SUMMARY:KILI Lets Walk for Health
DESCRIPTION:KILI PEOPLE start a 30 Days Challenge program on 5th Nov with 10\,000 Steps a Day. Please join with us and improve your health.  \n*வாங்கோ நடக்கலாம்* \n*Let’s Walk for Health* \n“வாங்கோ நடக்கலாம் வாழ்வை கூட்டலாம்”  \nThere are many activities for you. Health seminars\, Food competition & Health tips   \nEntry Fee: Single £10 & Family £25  \n(No penalty or fine if any one not reached the target) \nPlease register & pay on below link: \nhttps://www.totalgiving.co.uk/mypage/walkforhealth-nov05-dec05 \n*PLEASE SEND YOUR PAYMENT CONFIRMATION WITH YOUR MOBILE NUMBER TO ADD ON THE GROUP TO INFO@KILIPEOPLE.ORG OR 07951847840* \nWe will add you on *KILI Let’s Walk 4 Health* WhatsApp group. Please update your daily performance.  \n*PLEASE SHARE THIS POST TO ANYONE WHO INTERESTED TO JOIN THIS CHALLENGE* \nKind Regards \nKILI PEOPLE \nwww.kilipeople.org   \n 
URL:https://kilipeople.org/event/kili-lets-walk-for-health/
CATEGORIES:Passed Events,Upcoming Events
ATTACH;FMTTYPE=image/jpeg:https://kilipeople.org/wp-content/uploads/2020/11/Kili-Walk-3.jpg
END:VEVENT
BEGIN:VEVENT
DTSTART;VALUE=DATE:20200802
DTEND;VALUE=DATE:20200803
DTSTAMP:20260423T222756
CREATED:20200622T124216Z
LAST-MODIFIED:20200705T130016Z
UID:3657-1596326400-1596412799@kilipeople.org
SUMMARY:TASTE OF KILIPEOPLE
DESCRIPTION:*TASTE OF KILI PEOPLE* \nWorldwide Virtual Cooking Competition \nKili People proudly announces our first worldwide virtual cooking competition for our young generation to recognise their cooking talent. Please refer to our flyer for more information on how to enter. \nA minimum donation of £1 is needed to take part in the competition. \nஎமது இளையோரின் சமையல் கலையை வளர்க்கும் ஒரு முயற்ச்சியில் கிளி பீப்பிள் (கிளிநொச்சி மாவட்ட மக்கள் அமைப்பு ) உலகம் தழுவிய போட்டியை நடாத்துகின்றது. \nபோட்டி விதிமுறைகள் மற்றும் முழு விபரங்களும் இத்துடன் இணைக்கப்பட்ட பிரசுரத்தில் தரப்பட்டுள்ளது. \nபோட்டியில் கலந்துகொள்ள குறைந்தது £1 நன்கொடை வழங்கவேண்டும். இவ் நிதி கிளிநொச்சி பிரதேசத்தில் வீட்டுத்தோட்ட திட்டத்துக்கு பயன்படுத்தப்படும். \nநன்கொடை வழங்க; \nhttps://www.totalgiving.co.uk/mypage/tasteofkilipeople-2020 \nஇணைப்பாளர்கள்: \nஜெயஸ்ரீ சதானந்தன் – 0044 74 5002 7890 \nகலையரசி துறைவன் – 0044 78 2150 9446 \nKind Regards \nKILI PEOPLE \nwww.kilipeople.org
URL:https://kilipeople.org/event/taste-of-kilipeople/
CATEGORIES:Upcoming Events
ATTACH;FMTTYPE=image/png:https://kilipeople.org/wp-content/uploads/2020/06/Tast-of-Kilipeople-logo-png.png
END:VEVENT
END:VCALENDAR