BEGIN:VCALENDAR
VERSION:2.0
PRODID:-//KILI PEOPLE - ECPv6.13.2.1//NONSGML v1.0//EN
CALSCALE:GREGORIAN
METHOD:PUBLISH
X-ORIGINAL-URL:https://kilipeople.org
X-WR-CALDESC:Events for KILI PEOPLE
REFRESH-INTERVAL;VALUE=DURATION:PT1H
X-Robots-Tag:noindex
X-PUBLISHED-TTL:PT1H
BEGIN:VTIMEZONE
TZID:Europe/London
BEGIN:DAYLIGHT
TZOFFSETFROM:+0000
TZOFFSETTO:+0100
TZNAME:BST
DTSTART:20260329T010000
END:DAYLIGHT
BEGIN:STANDARD
TZOFFSETFROM:+0100
TZOFFSETTO:+0000
TZNAME:GMT
DTSTART:20261025T010000
END:STANDARD
END:VTIMEZONE
BEGIN:VEVENT
DTSTART;TZID=Europe/London:20260314T173000
DTEND;TZID=Europe/London:20260314T233000
DTSTAMP:20260423T204948
CREATED:20260203T234324Z
LAST-MODIFIED:20260203T234324Z
UID:4402-1773509400-1773531000@kilipeople.org
SUMMARY:Kili Mega Night 2026
DESCRIPTION:கிளி மக்கள் அமைப்பின் 2026ம் ஆண்டுக்கான மாபெரும் ஒன்றுகூடல்.\n\nமார்ச் மாதம் 14ம் திகதி இலண்டனில் நடைபெறுகின்றது.
URL:https://kilipeople.org/event/kili-mega-night-2026/
CATEGORIES:Upcoming Events
ATTACH;FMTTYPE=image/jpeg:https://kilipeople.org/wp-content/uploads/2026/02/fffff.jpg
END:VEVENT
END:VCALENDAR